BEGIN:VCALENDAR
VERSION:2.0
PRODID:-//PGZ - ECPv6.15.15//NONSGML v1.0//EN
CALSCALE:GREGORIAN
METHOD:PUBLISH
X-ORIGINAL-URL:https://pgz-slo.si
X-WR-CALDESC:Dogodki za PGZ
REFRESH-INTERVAL;VALUE=DURATION:PT1H
X-Robots-Tag:noindex
X-PUBLISHED-TTL:PT1H
BEGIN:VTIMEZONE
TZID:Europe/Helsinki
BEGIN:DAYLIGHT
TZOFFSETFROM:+0200
TZOFFSETTO:+0300
TZNAME:EEST
DTSTART:20210328T010000
END:DAYLIGHT
BEGIN:STANDARD
TZOFFSETFROM:+0300
TZOFFSETTO:+0200
TZNAME:EET
DTSTART:20211031T010000
END:STANDARD
BEGIN:DAYLIGHT
TZOFFSETFROM:+0200
TZOFFSETTO:+0300
TZNAME:EEST
DTSTART:20220327T010000
END:DAYLIGHT
BEGIN:STANDARD
TZOFFSETFROM:+0300
TZOFFSETTO:+0200
TZNAME:EET
DTSTART:20221030T010000
END:STANDARD
BEGIN:DAYLIGHT
TZOFFSETFROM:+0200
TZOFFSETTO:+0300
TZNAME:EEST
DTSTART:20230326T010000
END:DAYLIGHT
BEGIN:STANDARD
TZOFFSETFROM:+0300
TZOFFSETTO:+0200
TZNAME:EET
DTSTART:20231029T010000
END:STANDARD
END:VTIMEZONE
BEGIN:VEVENT
DTSTART;TZID=Europe/Helsinki:20220203T090000
DTEND;TZID=Europe/Helsinki:20220203T230000
DTSTAMP:20260419T150336
CREATED:20220124T140341Z
LAST-MODIFIED:20220124T145457Z
UID:11443-1643878800-1643929200@pgz-slo.si
SUMMARY:Brezplačna on-line delavnica »Obdavčitev prejemkov poslovodij in prokuristov«
DESCRIPTION:SPOT svetovanje Obalno-kraške regije organizira brezplačno on-line delavnico »Obdavčitev prejemkov poslovodij in prokuristov« v ČETRTEK\, 3. februarja 2022 od 9. do 11. ure\, preko spletnega orodja ZOOM.  \nDelavnica je BREZPLAČNA! \nPoslovodenje in prokura se po naravi dela razlikujeta\, zato imata tudi različni davčni obravnavi dohodkov\, izplačanih na podlagi posamezne pogodbe. Za pravilno davčno obravnavo dohodkov iz naslova posamezne pogodbe in ugodnosti\, ki izhajajo\, je pomembno\, da razumemo in ločimo pojme\, kot so poslovodna oseba\, prokurist\, delavec s posebnimi pooblastili\, pogodbo o poslo-vodenju ali prokuri. \nSte v dilemi ali skleniti s poslovodno osebo pogodbo o zaposlitvi ali pogodbo o poslovodenju\, ali ne veste kako pravilno urediti prokuro ter kakšno pogodbo skleniti z upokojencem\, ki je lastnik podjetja in poslovodja ter kako dohodki\, ki jih prejema upokojenec\, vplivajo na njegovo pokoj-nino in kako so obdavčeni. Vsa ta vprašanja bodo obravnavana na delavnici. Delavnica je namenjena podjetnikom (MSP)\, ki so v vlogi poslovodnih oseb\, kot tudi osebam\, ki prejemajo prokuro ali poslovodenje ali pa obračunavajo prokuro oz. poslovodenje ter ostalim\, ki jih tematika zanima. \nPROGRAM DELAVNICE: 9:00 – 11:00 \n\nSklenitev ustrezne pogodbe za opravljanje nalog poslovodenja in prokure.\nRazlika med obdavčitvijo prejemkov poslovodij po pogodbi o poslovodenju in pogodbi o zaposlitvi.\nKakšna je obdavčitev po Pogodbi o poslovodenju z družbenikom in kakšna z osebo\, ki ni družbenik?\nKako so obdavčeni prokuristi\, ter naloge\, ki jih lahko opravlja prokurist v podjetju?\nKako so obdavčeni upokojenci\, ki opravljajo poslovodenje ali prokuro?\nOdgovori na vprašanja.\n\nDelavnico bo izvedla predavateljica Irena Kamenščak\, univ. dipl. prav.\, davčna svetovalka v družbi BDO Svetovanje d.o.o.. Diplomirala je na Pravni fakulteti v Ljubljani. Svetuje na področju dohodnine\, davčnega postopka\, gospodarskega in delovnega prava. \nDelavnica bo potekala v ON-LINE obliki v živo med 9.00 in 11.00 preko spletne aplikacije ZOOM. Povezavo za spremljanje delavnice vam bomo poslali na vaš e-mail naslov\, dan pred dogodkom. \nŠtevilo mest je omejeno! \nPrijave na delavnico zbiramo najkasneje do torka\, 1. februarja 2022 oz. do zasedbe prostih mest preko spletne prijavnice na povezavi: https://forms.gle/A2FTqyDDWE7EXzdA8 . \nDodatne informacije lahko spletne prijavnice pri ORA Krasa in Brkinov d.o.o.\, svetovalka Dolores Kovšca\, tel.: 051 424 532 oz. po e-pošti: dolores.kovsca@ora.si. \n  \nProjekt je sofinanciran s pomočjo Evropskega sklada za regionalni razvoj\, Ministrstva za gospodarski razvoj in tehnologijo ter SPIRIT Slovenija\, javne agencije
URL:https://pgz-slo.si/dogodek/brezplacna-on-line-delavnica-obdavcitev-prejemkov-poslovodij-in-prokuristov/
LOCATION:On-line (prek orodja ZOOM)
CATEGORIES:SPOT
END:VEVENT
BEGIN:VEVENT
DTSTART;TZID=Europe/Helsinki:20220211T090000
DTEND;TZID=Europe/Helsinki:20220211T230000
DTSTAMP:20260419T150336
CREATED:20220126T093112Z
LAST-MODIFIED:20220126T093446Z
UID:11449-1644570000-1644620400@pgz-slo.si
SUMMARY:Brezplačna on-line delavnica »Pomen zdravja za uspešno poslovanje podjetja«
DESCRIPTION:SPOT Svetovanje Obalno-kraške regije organizira BREZPLAČNO ON-LINE delavnico »Pomen zdravja za uspešno poslovanje podjetja« v PETEK\, 11. februarja 2022 od 9.00 do 11:00 ure prek orodja ZOOM.  \nDelavnica je BREZPLAČNA! \nNa delavnici »Pomen zdravja za uspešno poslovanje podjetja« se boste seznanili s preprostimi usmeritvami in nasveti za optimiziranje svojega počutje in rezultatov na področju na katerem delujete. Spregovorili bomo o zdravem življenjskem slogu\, v povezavi s prehrano in gibanjem\, ter se dotaknili številnih področjih\, ki so neposredno vezana na doseganje optimalnega zdravja\, ki pa je tudi predpogoj za podjetniško uspešnost. \nVsebina delavnice: \n\nVpliv zdravja na podjetniško uspešnost.\nVpliv prehrane in gibanja na optimizacijo zdravja in povečanje storilnosti.\nKako optimizirati prehrano in gibanje\, če nam primanjkuje časa in smo zelo zasedeni.\nKako se lotiti spreminjanja že ustaljenih\, »napačnih« navad v prehranjevanju in gibanju.\n\nDelavnico bo vodil Jan Hrvatin\, trener\, maser in navdušenec nad gibanjem\, prehrano in delovanjem človeka v psihološkem in telesnem pomenu. S trenerstvom se ukvarja že zelo dolgo in v svojem delu skuša ljudem pomagati\, da živijo bolj zdravo in kvalitetnejše življenje. \nDelavnica je namenjena podjetnikom (MSP) ter potencialnim podjetnikom\, ki se zavedajo\, da je skrb za zdravje pomemben element v poslovanju vsakega podjetja. \nVljudno vabljeni. \nDelavnica bo potekala on-line med 9.00 in 11.00 uro preko orodja ZOOM. Povezavo za spremljanje delavnice bomo poslali vsem prijavljenim udeležencev en dan pred dogodkom na e-mail naslov\, s katerim se je udeleženec prijavil na dogodek. Predlagamo\, da si pred delavnico namestite ZOOM aplikacijo na vaš računalnik. \nPrijave na delavnico zbiramo najkasneje do četrtka 10. februarja 2022 oz. do zasedbe prostih mest prek spletne prijavnice na povezavi: https://forms.gle/eTDXxua3P9oUJHWc8 . Število mest je omejeno\, zato pohitite s prijavo! \nDodatne informacije: SPOT Svetovanje Obalno–kraške regije\, Vlasta Starc\, 05 66 37 582\, e-pošta: vlasta.starc@rrc-kp.si ali Marija Rogan Šik\, 05 66 25 834\, e-pošta: marija.rogan-sik@pgz-slo.si
URL:https://pgz-slo.si/dogodek/brezplacna-on-line-delavnica-pomen-zdravja-za-uspesno-poslovanje-podjetja/
LOCATION:On-line (prek orodja ZOOM)
CATEGORIES:SPOT
END:VEVENT
BEGIN:VEVENT
DTSTART;TZID=Europe/Helsinki:20220215T093000
DTEND;TZID=Europe/Helsinki:20220215T113000
DTSTAMP:20260419T150336
CREATED:20220210T113307Z
LAST-MODIFIED:20220210T123456Z
UID:11593-1644917400-1644924600@pgz-slo.si
SUMMARY:Kako Linkedin izkoristiti za posel: primer podjetja Titus d.o.o. - spletna delavnica
DESCRIPTION:Primorska gospodarska zbornica organizira delavnico s predstavitvijo primera dobre prakse z naslovom »Kako Linkedin izkoristiti za posel: primer podjetja Titus d.o.o.«\, ki bo v torek 15. februarja 2022 od 9.30 do 11.30 ure. \nDelavnico\, ki bo potekala on-line preko spletnega orodja MS Teams\, bo vodila priznana strokovnjakinja iz tega področja\, ga. Manca Korelc. \nDogodek ima kotizacijo. \nDodatne informacije in prijave na: tina.lenardic@pgz-slo.si \nVljudno vabljeni! \n  \nPRILOGA – VABILO: \nPGZ vabilo – seminar Linkedin 15.2.2022 \n 
URL:https://pgz-slo.si/dogodek/kako-linkedin-izkoristiti-za-posel-primer-podjetja-titus-d-o-o-spletna-delavnica/
CATEGORIES:PGZ
ATTACH;FMTTYPE=image/jpeg:https://pgz-slo.si/wp-content/uploads/2021/11/Linkedin-seminar.jpg
END:VEVENT
BEGIN:VEVENT
DTSTART;TZID=Europe/Helsinki:20220218T090000
DTEND;TZID=Europe/Helsinki:20220218T120000
DTSTAMP:20260419T150336
CREATED:20220210T122642Z
LAST-MODIFIED:20220210T143017Z
UID:11630-1645174800-1645185600@pgz-slo.si
SUMMARY:Brezplačna online delavnica »Kaj moram vedeti o pravni ureditvi spletne trgovine«
DESCRIPTION:SPOT Svetovanje Obalno-kraške regije organizira brezplačno online delavnico »Kaj moram vedeti o pravni ureditvi spletne trgovine«\, v petek\, 18.2.2022 od 9. do 12. ure preko spletnega orodja ZOOM. \nPoslujete preko spleta – imate spletno stran\, kjer predstavljate svojo ponudbo oz. svoje podjetje\, ali celo poslujete preko spletne trgovine? Ste spletno trgovino postavili še pred leti in od takrat vsebine dokumentov niste preverjali/dopolnili s pravnega vidika? Se je kdaj na vas obrnil kupec\, ki je želel vrniti kupljeno blago\, pa niste vedeli\, ali ste mu to dolžni omogočiti in v kakšnem obsegu\, ali niste vedeli\, ali ravnate skladno z zakonodajo? Ali želite razširiti možnosti trženja svojih izdelkov prek spleta\, vendar niste prepričani\, ali lahko to storite skladno z veljavno zakonodajo z vidika osebnih podatkov? Odgovore na ta in še druga vprašanja boste dobili na brezplačni delavnici\, ki jo organizira SPOT Svetovanje Obalno-kraške regije. \nPROGRAM DELAVNICE: \n\nZahteve zakonodaje za vodenje spletne trgovine in prodaje preko spleta.\nZagotovitev varstva potrošnikov pri poslovanju preko spletne trgovine\, s poudarkom na sklepanju\nZahteve glede sestave splošnih pogojev poslovanja.\nReševanje potrošniških sporov\, s poudarkom na zunaj sodnem načinu reševanja sporov.\nJezikovne zahteve glede vodenja spletne trgovine.\nObdelava osebnih podatkov v okviru spletne prodaje in zahteve zakonodaje.\n\nDelavnico bo vodila Tamara Starič Petrović\, univ. dipl. prav\, strokovnjakinja na  področju civilnega in gospodarskega prava. \nObvezne so predhodne prijave do zasedbe mest prek spletne prijavnice: https://forms.gle/nqeH3DeB1UBkuV8N8. \nDodatne informacije: SPOT Svetovanje Obalno-kraške regije\, Marija Rogan Šik\, 05 662 58 34 ali Vlasta Starc\, 05 66 37 582. \nVabilo! \n \nProjekt je sofinanciran s pomočjo Evropskega sklada za regionalni razvoj\, Ministrstva za gospodarski razvoj in tehnologijo ter SPIRIT Slovenija\, javna agencija.
URL:https://pgz-slo.si/dogodek/brezplacna-online-delavnica-kaj-moram-vedeti-o-pravni-ureditvi-spletne-trgovine/
LOCATION:On-line (prek orodja ZOOM)
CATEGORIES:SPOT
END:VEVENT
END:VCALENDAR