BEGIN:VCALENDAR
VERSION:2.0
PRODID:-//PGZ - ECPv6.15.15//NONSGML v1.0//EN
CALSCALE:GREGORIAN
METHOD:PUBLISH
X-WR-CALNAME:PGZ
X-ORIGINAL-URL:https://pgz-slo.si
X-WR-CALDESC:Dogodki za PGZ
REFRESH-INTERVAL;VALUE=DURATION:PT1H
X-Robots-Tag:noindex
X-PUBLISHED-TTL:PT1H
BEGIN:VTIMEZONE
TZID:Europe/Helsinki
BEGIN:DAYLIGHT
TZOFFSETFROM:+0200
TZOFFSETTO:+0300
TZNAME:EEST
DTSTART:20200329T010000
END:DAYLIGHT
BEGIN:STANDARD
TZOFFSETFROM:+0300
TZOFFSETTO:+0200
TZNAME:EET
DTSTART:20201025T010000
END:STANDARD
BEGIN:DAYLIGHT
TZOFFSETFROM:+0200
TZOFFSETTO:+0300
TZNAME:EEST
DTSTART:20210328T010000
END:DAYLIGHT
BEGIN:STANDARD
TZOFFSETFROM:+0300
TZOFFSETTO:+0200
TZNAME:EET
DTSTART:20211031T010000
END:STANDARD
BEGIN:DAYLIGHT
TZOFFSETFROM:+0200
TZOFFSETTO:+0300
TZNAME:EEST
DTSTART:20220327T010000
END:DAYLIGHT
BEGIN:STANDARD
TZOFFSETFROM:+0300
TZOFFSETTO:+0200
TZNAME:EET
DTSTART:20221030T010000
END:STANDARD
END:VTIMEZONE
BEGIN:VEVENT
DTSTART;TZID=Europe/Helsinki:20210601T100000
DTEND;TZID=Europe/Helsinki:20210601T123000
DTSTAMP:20260420T042617
CREATED:20210514T135711Z
LAST-MODIFIED:20210514T140009Z
UID:10147-1622541600-1622550600@pgz-slo.si
SUMMARY:Brezplačna delavnica »Poslovni bonton«
DESCRIPTION:SPOT svetovanje Obalno-kraške regije organizira BREZPLAČNO delavnico »Poslovni bonton«. \nNihče se ne zbudi in reče\, danes bom nesramen. Vsem se nam zdi\, da smo vljudni. Problem nastane\, ko se nam mudi\, ali se pogovarjamo z neznanci\, ne uporabljamo manir\, ki bi jih lahko. Bonton ni vrsta rigidnih pravil. Olike se spreminjajo v času in reflektirajo najboljšo prakso časa. Gre za smernice po katerih se velja ravnati zato\, da bi se ljudje počutili udobno. Olikan človek ni snobovski\, ne želi biti nekaj\, kar ni. \nBonton nam lahko v poslovnem svetu odpre marsikatera vrata in na delavnici boste spoznali najnovešje usmeritve in se verjetno začutili\, katere ne veljajo več. \nObravnavali bomo:\n• poslovni bonton pri besedni komunikaciji (pozdravljanje\, poslavljanje\, vikanje\, tikanje\,…)\,\n• poslovni bonton pri nebesedni komunikaciji (govorica telesa\, očesni stik\, izraz na obrazu\, drža\, kret-nje\,…)\,\n• poslovni bonton pri pisnem komuniciranju (formalno\, neformalno\, naslavljanje\, …)\,\n• poslovna darila (kdaj obdarovati\, primernost daril\, način dajanja in sprejemanja\, …)\,\n• organizacija dogodka in poslovnih sestankov (vrste dogodkov\, (ne) formalni sestanki\, vabljenje\, sprejem gostov\, …)\,\n• pravila poslovnega bontona v drugih državah. \nDelavnico bo vodila univ. dipl. psihologinja\, trenerka mehkih veščin in podjetnica Nina Dušić Hren. \nVeč o njej si lahko preberete na http://www.doberstik.si. \nDelavnica je namenjena podjetnikom (MSP) ter potencialnim podjetnikom\, ki želijo izvedeti več ter se izpopolniti na področju poslovnega bontona. \nVljudno vabljeni. \nDelavnica bo potekala online med 10.00 in 12.30 uro na spletni aplikaciji ZOOM. \nPovezavo za spremljanje delavnice vam bomo poslali na vaš e-mail naslov\, dan pred dogodkom. \nPredlagamo\, da si pred delavnico namestite ZOOM aplikacijo na vaš računalnik. \nPrijave na delavnico zbiramo najkasneje do ponedeljka\, 31. maja 2021 oz. do zasedbe prostih prek povezave: https://forms.gle/4VpwrVVqSWLSbXFw5  \nŠtevilo mest je omejeno! \nDodatne informacije: SPOT svetovanje Obalno – kraške regije\, Vlasta Starc\, telefon: 66 37 582\, e-pošta: vlasta.starc@rrc-kp.si ali Marija Rogan Šik\, telefon: 66 25 834\, e-pošta: marija.rogan-sik@pgz-slo.si .
URL:https://pgz-slo.si/dogodek/brezplacna-delavnica-poslovni-bonton/
LOCATION:Zoom
CATEGORIES:SPOT
END:VEVENT
BEGIN:VEVENT
DTSTART;TZID=Europe/Helsinki:20210603T090000
DTEND;TZID=Europe/Helsinki:20210603T130000
DTSTAMP:20260420T042617
CREATED:20210520T075030Z
LAST-MODIFIED:20210520T125839Z
UID:10171-1622710800-1622725200@pgz-slo.si
SUMMARY:
DESCRIPTION:SPOT svetovanje Obalno-kraške regije organizira brezplačno delavnico \n»CANVA – oblikujte sami privlačne grafične rešitve za svoje podjetje«\nv ČETRTEK\, 3. junija 2021 od 9. do 13. ure\, \nv prostorih Območne obrtno-podjetniške zbornice Sežana\, Kraška ulica 6\, 6210 Sežana. \nDelavnica je BREZPLAČNA! \nNa delavnici boste ustvarjali s spletnim orodjem Canva in govorili o osnovah ustvarjanja vizualnih vsebin za namen promocije\, objav\, predstavitve vašega poslovanja\, ipd.. \nSpoznali boste funkcije\, ki jih ponuja program in jih v praksi preizkusili na ustvarjanju lastnih grafik in vizualnih vsebin. Program ponuja ogromno priložnosti in ima enostaven sistem\, kar uporabniku omogoča igrišče polno različnih možnosti. Govora bo o ustvarjanju promocijskih vsebin in grafik za vizualne  predstavitve ter kako le te narediti opazne\, učinkovite in hkrati enostavne. Vaše podjetje bo na ta način postalo bolj vidno ter privlačno v očeh kupcev. Delavnica je namenjena mikro\, malim in srednje velikim podjetjem ter potencialnim podjetnikom. \nNa delavnici potrebujete prenosni računalnik. \nPROGRAM DELAVNICE (09:00 – 13:00):\n– Spoznavanje osnov ustvarjanja vizualnih vsebin za namen promocije\, objav\, predstavitev\, ipd.\n– Seznanitev s funkcijami\, ki jih ponuja program.\n– Preizkušanje funkcij na ustvarjanju lastnih grafik in vizualnih vsebin.\n– Načini ustvarjanja promocijskih vsebin in grafik za vizualne predstavitve ter kako te narediti opazne\, učinkovite in hkrati enostavne.\n– Predstavitev trikov\, ki jih skriva program Canva. \nIzvajalka: Urška Pavlovič je nacionalno kvalificirana mladinska delavka\, trenerka na področju neformalnega izobraževanja ter vsestranska umetnica. Ima bogate izkušnje na področju\nkreativnega razmišljanja\, inovativnih idej\, digitalnega dela\, vizualnega komuniciranja\, projektnega managementa in vodenja skupin. \nPrijave na delavnico zbiramo najkasneje do srede\, 2. junija 2021 oz. do zasedbe prostih mest preko spletne prijavnice . \nDodatne informacije lahko dobite pri ORA Krasa in Brkinov d.o.o.\, svetovalka Dolores Kovšca\, tel.: 051 424 532 oz. po e-pošti: dolores.kovsca@ora.si. \n  \nProjekt je sofinanciran s pomočjo Evropskega sklada za regionalni razvoj\, Ministrstva za gospodarski razvoj in tehnologijo ter SPIRIT Slovenija\, javne agencije.
URL:https://pgz-slo.si/dogodek/brezplacna-delavnica-canva-oblikujte-sami-privlacne-graficne-resitve-za-svoje-podjetje/
CATEGORIES:SPOT
ATTACH;FMTTYPE=image/jpeg:https://pgz-slo.si/wp-content/uploads/2021/05/Cover-2.jpg
END:VEVENT
BEGIN:VEVENT
DTSTART;TZID=Europe/Helsinki:20210603T100000
DTEND;TZID=Europe/Helsinki:20210603T110000
DTSTAMP:20260420T042617
CREATED:20210525T103136Z
LAST-MODIFIED:20210525T103746Z
UID:10210-1622714400-1622718000@pgz-slo.si
SUMMARY:PRIJAVA INOVACIJ V LETU 2021 - brezplačni webinar
DESCRIPTION:Primorska gospodarska zbornica organizira v okviru “Razpisa za inovacije 2021” brezplačni izobraževalni webinar za vse zainteresirane subjekte/inovatorje\, ki želijo še letos prijaviti svojo najboljšo inovacijo. \nSpletni dogodek bo v četrtek 3. junija 2021 od 10.00 do 11.00 ure preko spletnega orodja MS Teams. \nGost dogodka bo doc. dr. Aleš Lipnik\, predsednik Komisije za inovacije PGZ. \nPrijave sprejemamo do srede 2. junija 2021 do 13.00 ure na e-naslovu: tina.lenardic@pgz-slo.si. \nRok za prijavo na razpis je petek\, 11.junij 2021! Svečana podelitev priznanj najboljšim inovatorjem Obalno-kraške in Severno Primorske regije v letu 2021 pa bo v torek\, 21. septembra 2021 v centru Perla v Novi Gorici. \nDodatne informacije: tina.lenardic@pgz-slo.si; 05 66 258 32. \n  \n*Priloga: \nPGZ vabilo – INO webinar 3.6.2021 \n 
URL:https://pgz-slo.si/dogodek/prijava-inovacij-v-letu-2021-brezplacni-webinar-2/
CATEGORIES:PGZ
END:VEVENT
BEGIN:VEVENT
DTSTART;TZID=Europe/Helsinki:20210614T090000
DTEND;TZID=Europe/Helsinki:20210614T140000
DTSTAMP:20260420T042617
CREATED:20210526T083035Z
LAST-MODIFIED:20210601T134814Z
UID:10224-1623661200-1623679200@pgz-slo.si
SUMMARY:Brezplačno on-line usposabljanje »Poslovno komuniciranje v Italijanščini«
DESCRIPTION:SPOT svetovanje Obalno-kraške regije organizira brezplačno on-line usposabljanje »Poslovno komuniciranje v Italijanščini«\nv ponedeljek\, 14. junija 2021 in v sredo\, 16. junija 2021  \nod 9.00 do 14. 00 ure\, preko spletnega orodja ZOOM. \nUsposabljanje je BREZPLAČNO! \nPROGRAM USPOSABLJANJA:\n1. Jezik kot podlaga za komuniciranje: \n\nLA GRAMMATICA È LA TUA SALVEZZA – la ripetiamo insieme? (indicativo presente vs.\ncongiuntivo presente\, i pronomi diretti e indiretti\, il passato prossimo\, il futuro semplice\, i\ncomparativi di maggioranza\, le preposizioni\, espressioni di frequenza – sempre\, spesso\, a\nvolte…)\n L’ITALIANO IN PRATICA (Che ore sono? Che giorno è? Come rimaniamo? Volevo dirti una\ncosa…)\n HAI NASO PER GLI AFFARI? – i modi di dire più frequenti in italiano\nUtrjevanje snovi z interaktivnimi vajami\n\n2. Osvojitev veščin komuniciranja v poslovni italijanščini:\na) La comunicazione orale \n\nIL TELEFONO\, CHE STRESS! – come gestire le telefonate particolari\nINCONTRI D’AFFARI (saluti\, registrazione alla reception\, presentarsi\, spiegare il motivo della\nvisita\, indicare la direzione\, invitare ad accomodarsi\, convenevoli\, scusarsi per il ritardo…):\na. PRESENTARE IL PROPRIO LAVORO – la routine lavorativa\nb. PRESENTARE UN PRODOTTO O UN SERVIZIO\nc. PRESENTARE UN’AZIENDA – dal profilo aziendale alla performance finanziaria\nd. RIUNIONI E NEGOZIAZIONI – il linguaggio verbale e non verbale delle riunioni formali\ne. LO SMALL TALK È LA TUA OCCASIONE – trucchi per divertirsi durante gli eventi di\nnetworking\nIL VIAGGIO D’AFFARI – in hotel\, in aereo\, in città\, in taxi\nb) La comunicazione scritta\n EMAIL PER TUTTI – esempi pratici di comunicazione elettronica\n IL CURRICULUM VITAE E LA LETTERA DI PRESENTAZIONE\nUtrjevanje snovi z interaktivnimi vajami\n\n3. Razširitev poslovnega besednega zaklada: \n\nIMPRESE E SOCIETÀ\nLA STRUTTURA ORGANIZATIVA\nMETODI DI PAGAMENTO\nLE FATTURE\nUtrjevanje snovi z interaktivnimi vajami\n4. Spoznavanje poslovnega bontona:\nIL LINGUAGGIO DEL CORPO NELLE SITUAZIONI FORMALI – non fatevi tradire dai vostri piedi!\nIL GALATEO AL LAVORO – regole semplici per un’immagine professionale impeccabile\n\nUsposabljanje bo izvedla Tea Pozar\, iz jezikovne šole Linguarium (LINGUARIUM\, prevajanje in poučevanje jezikov\, Tea Pozar s.p.) \nPotek usposabljanja:\nUsposabljanje bo potekalo v ON-LINE obliki v živo med 9.00 in 14.00 ure preko spletne aplikacije ZOOM. \nPovezavo za spremljanje usposabljanja vam bomo poslali na vaš e-mail naslov\, dan pred dogodkom. \nŠtevilo mest je omejeno! \nPrijave na usposabljanje zbiramo najkasneje do četrtka\, 10. junija 2021 oziroma do zasedbe prostih mest preko spletne prijavnice spletne prijavnice \nDodatne informacije lahko dobite pri svetovalki Petri Weber (Območna obrtno-podjetniška zbornica Sežana)\, tel.: 05 62 02 851 oz. po e-pošti: petra.weber@ozs.si
URL:https://pgz-slo.si/dogodek/brezplacno-on-line-usposabljanje-poslovno-komuniciranje-v-italijanscini/
CATEGORIES:SPOT
ATTACH;FMTTYPE=image/jpeg:https://pgz-slo.si/wp-content/uploads/2021/05/Poslovno-komuniciranje-v-Italijanscini.jpg
END:VEVENT
BEGIN:VEVENT
DTSTART;TZID=Europe/Helsinki:20210615T100000
DTEND;TZID=Europe/Helsinki:20210615T223000
DTSTAMP:20260420T042617
CREATED:20210601T140346Z
LAST-MODIFIED:20210601T142057Z
UID:10232-1623751200-1623796200@pgz-slo.si
SUMMARY:Brezplačna delavnica »Vpliv odnosov in delovnega okolja na uspešnost podjetja«
DESCRIPTION:SPOT svetovanje Obalno-kraške regije organizira BREZPLAČNO delavnico »Vpliv odnosov in delovnega okolja na uspešnost podjetja« v TOREK\, 15. junij 2021 od 10.00 do 11.30 on-line prek orodja ZOOM.  \nVerjetno je že vsak od vas vsaj enkrat v življenju imel »cmok v grlu«\, se slabo počutil ali kako drugače občutil tesnobo pred novim delovnim dnem\, pred odhodom v delovno okolje\, kjer vam zaradi medosebnih odnosov ni bilo prijetno. Slabi medosebni odnosi lahko vplivajo tudi na uspešnost podjetja\, a z ustreznim ozaveščanjem se zadeve lahko izboljšajo. Naša delavnica vam bo pomagala narediti prve korake na tej poti. \nNa delavnici boste lahko na praktičen način spoznali: \n\nkako na sodelavce in poslovne partnerje pogledati z drugega zornega kota\,\nkako izboljšati medosebne odnose s sodelavci in poslovnimi partnerji\,\nkako oblikovati delovne skupine\,\nkako urediti delovno okolje za boljše medosebne odnose\,\nvpliv barv in prehrane na medosebne odnose in uspešnost podjetja\,\n kako ne pozabiti nase\, v želji po ohranjanju dobrih odnosov s sodelavci in poslovnimi partnerji.\n\nMajhni koraki nas pripeljejo do velikih sprememb\, zato boste na delavnici dobili nasvete\, ki jih boste lahko takoj vpeljali v svoj podjetniški vsakdan.\nVsak dan se učimo\, spoznavamo sebe in druge\, zato je tudi ta delavnica priložnost za nove poglede in spoznanja. Potrebujete le željo po učenju in spremembah. \nDelavnico bo vodila Mirjana Groznik\, neonaturopatinja\, spec. managementa v evropskem okolju in ustanoviteljica holističnega centra Akilea. \nVeč o njej si lahko preberete na: http://www.akilea.si /.\nDelavnica je namenjena podjetnikom (MSP) ter potencialnim podjetnikom\, ki želijo izvedeti več in izboljšati odnose in delovno okolje v podjetju. \nVljudno vabljeni. \nDelavnica bo potekala online med 10.00 in 11.30 uro na spletni aplikaciji ZOOM. Povezavo za spremljanje delavnice vam bomo poslali na vaš e-mail naslov\, dan pred dogodkom. Predlagamo\, da si pred delavnico namestite ZOOM aplikacijo na vaš računalnik. \nPrijave na delavnico zbiramo najkasneje do ponedeljka\, 14. junija 2021 oz. do zasedbe prostih mest prek spletne prijavnice: https://forms.gle/RHKY2S2ApAcwnuTNA. Število mest je omejeno! \nDodatne informacije: SPOT svetovanje Obalno – kraške regije\, Vlasta Starc\, telefon: 66 37 582\, e-pošta: vlasta.starc@rrc-kp.si ali Marija Rogan Šik\, telefon: 66 25 834\, e-pošta: marija.rogan-sik@pgz-slo.si .
URL:https://pgz-slo.si/dogodek/brezplacna-delavnica-vpliv-odnosov-in-delovnega-okolja-na-uspesnost-podjetja/
CATEGORIES:SPOT
END:VEVENT
BEGIN:VEVENT
DTSTART;TZID=Europe/Helsinki:20210615T170000
DTEND;TZID=Europe/Helsinki:20210615T190000
DTSTAMP:20260420T042617
CREATED:20210608T192633Z
LAST-MODIFIED:20210608T193055Z
UID:10262-1623776400-1623783600@pgz-slo.si
SUMMARY:Delavnica Uporaba in zaščita lesa v kmetijstvu
DESCRIPTION:Vabljeni na delavnico “Uporaba in zaščita lesa v kmetijstvu” v torek\, 15. 6. 2021 ob 17. uri na posestvo Santomas v Šmarjah pri Kopru.  \nSektor kmetijstva predstavlja velik izziv za inovacije in tehnološki razvoj. V zadnjem času se veliko razvoja usmerja v uporabo trajnih materialov in surovin\, med katerimi tudi les. \nLes se že stoletja uporablja v pridelavi\, predvsem v gradnji kmetijskih objektov\, v vinogradništvu in oljkarstvu\, kot tudi v drugih panogah. S tega vidika so vsebine delavnice z naslovom “Uporaba in zaščita lesa v kmetijstvu” namenjene predvsem kmetom\, kmetijskim gospodarstvom in drugim deležnikom\, ki želijo pridobiti aktualne informacije s področja razkroja\, naravne odpornosti in zaščite lesa. \nZ nami bodo predstavhttp://tukajniki Biotehniške fakultete Univerze v Ljubljani\, podjetja Silvaprodukt d.o.o.\, ter drugi partnerji projekta DURASOFT. Vabilo s programom se nahaja tukaj. \n  \nProjekt je sofinanciran iz Evropskega sklada za regionalni razvoj »Program sodelovanja Interreg V-A Italija Slovenija 2014-2020« \n 
URL:https://pgz-slo.si/dogodek/delavnica-uporaba-in-zascita-lesa-v-kmetijstvu/
LOCATION:Posestvo Santomas
CATEGORIES:PGZ
ATTACH;FMTTYPE=image/jpeg:https://pgz-slo.si/wp-content/uploads/2021/06/4kcwQ9ww.jpeg
END:VEVENT
END:VCALENDAR