BEGIN:VCALENDAR
VERSION:2.0
PRODID:-//PGZ - ECPv6.15.15//NONSGML v1.0//EN
CALSCALE:GREGORIAN
METHOD:PUBLISH
X-ORIGINAL-URL:https://pgz-slo.si
X-WR-CALDESC:Dogodki za PGZ
REFRESH-INTERVAL;VALUE=DURATION:PT1H
X-Robots-Tag:noindex
X-PUBLISHED-TTL:PT1H
BEGIN:VTIMEZONE
TZID:Europe/Helsinki
BEGIN:DAYLIGHT
TZOFFSETFROM:+0200
TZOFFSETTO:+0300
TZNAME:EEST
DTSTART:20200329T010000
END:DAYLIGHT
BEGIN:STANDARD
TZOFFSETFROM:+0300
TZOFFSETTO:+0200
TZNAME:EET
DTSTART:20201025T010000
END:STANDARD
BEGIN:DAYLIGHT
TZOFFSETFROM:+0200
TZOFFSETTO:+0300
TZNAME:EEST
DTSTART:20210328T010000
END:DAYLIGHT
BEGIN:STANDARD
TZOFFSETFROM:+0300
TZOFFSETTO:+0200
TZNAME:EET
DTSTART:20211031T010000
END:STANDARD
BEGIN:DAYLIGHT
TZOFFSETFROM:+0200
TZOFFSETTO:+0300
TZNAME:EEST
DTSTART:20220327T010000
END:DAYLIGHT
BEGIN:STANDARD
TZOFFSETFROM:+0300
TZOFFSETTO:+0200
TZNAME:EET
DTSTART:20221030T010000
END:STANDARD
END:VTIMEZONE
BEGIN:VEVENT
DTSTART;TZID=Europe/Helsinki:20210514T090000
DTEND;TZID=Europe/Helsinki:20210514T110000
DTSTAMP:20260417T104834
CREATED:20210420T070901Z
LAST-MODIFIED:20210420T070927Z
UID:9859-1620982800-1620990000@pgz-slo.si
SUMMARY:Brezplačna delavnica  »Prenos lastništva v podjetju«
DESCRIPTION:SPOT svetovanje Obalno-kraške regije organizira BREZPLAČNO on-line delavnico \n»Prenos lastništva v podjetju« \n v PETEK\, 14. maja 2021\, od 9.00 do 11.00\, \nprek orodja ZOOM. \nPrenos lastništva podjetja je ena izmed faz podjetja. Podjetnik lahko svoje podjetje proda\, ga ponudi v odkup zaposlenim ali pa ga prenese na naslednike. Pravilen in pravočasen prenos lastništva je ključnega pomena z vidika preživetja podjetja in ohranjanja delovnih mest. Pri prenosu lastništva podjetja ni ključna pravilna ureditev dokumentacije in plačilo čim manj davka\, ampak sociološki in psihološki vidik vpletenih. Ker je v teh letih največ prenosov lastništva na naslednjo generacijo v družinskih podjetij\, bomo večino časa posvetili tej temi. Vabljeni lastniki in nasledniki. \nPROGRAM: \n\nOblike prenosa lastništva podjetja.\nPrenos lastništva v družinskih podjetjih na naslednjo generacijo.\nKdaj se je potrebno pričeti pripravljati na prenos in kako.\nKaj so najpogostejše napake?\nKaj je družinska ustava?\nKaj če nimamo naslednika?\nPredstavitev dobrih praks.\nPredstavitev ukrepov države na tem področju (vavčer\, …).\n\nPredavanju bo sledila razprava. \nPredavala bo mag. Nina Scortegagna Kavčnik\, specializirana za področje delovnega prava. Že vrsto let preučuje in predava tudi teme povezane s prenosi lastništva podjetij. V letu 2020 je bila nominirana za najuglednejšega pravnega strokovnjaka. Več o njej si lahko preberete na: www.ninascortegagna.si. \nDelavnica je namenjena podjetnikom (MSP) ter potencialnim podjetnikom\, ki jih tematika zanima. \nVljudno vabljeni. \nPotek delavnice: Delavnica bo potekala on-line med 9.00 in 11.00 preko spletne aplikacije ZOOM. Povezavo za spremljanje delavnice vam bomo poslali na vaš e-mail naslov dan pred dogodkom. Predlagamo\, da si pred delavnico namestite aplikacijo ZOOM na svoj računalnik. \nPrijave: Prijave na delavnico zbiramo najkasneje do četrtka\, 13. maja 2021 oz. do zasedbe prostih mest  prek spletne prijavnice: https://forms.gle/SS5KsJaWCJFG7v5k6 . Število mest je omejeno! \nDodatne informacije: SPOT svetovanje Obalno–kraške regije\, Vlasta Starc\, telefon: 66 37 582\, e-pošta: vlasta.starc@rrc-kp.si\, ali Marija Rogan Šik\, telefon: 66 25 834\, e-pošta: marija.rogan-sik@pgz-slo.si.
URL:https://pgz-slo.si/dogodek/brezplacna-delavnica-prenos-lastnistva-v-podjetju/
CATEGORIES:SPOT
END:VEVENT
BEGIN:VEVENT
DTSTART;TZID=Europe/Helsinki:20210517T100000
DTEND;TZID=Europe/Helsinki:20210517T120000
DTSTAMP:20260417T104834
CREATED:20210513T122350Z
LAST-MODIFIED:20210513T181616Z
UID:10095-1621245600-1621252800@pgz-slo.si
SUMMARY:OKROGLA MIZA: Deficitarni poklici ter obvladovanje pogojev in omejitev za prost pretok delovne sile v ključnih gospodarskih sektorjih na območju Euradrie
DESCRIPTION:Vljudno vabljeni na okroglo mizo\, namenjeno boljši kakovosti čezmejnega zaposlovanja in mobilnosti na območju Euradrie: \n Deficitarni poklici ter obvladovanje pogojev in omejitev za prost pretok delovne sile v ključnih gospodarskih sektorjih na območju Euradrie\, ki bo  \nv ponedeljek\,  17. maja 2021 od 10:00 do 12:00 \nokrogla miza bo potekala virtualno preko platforme Zoom\, na povezavi spodaj: \n  \nhttps://us02web.zoom.us/j/82501523683?pwd=T3YzSXJxVXBlaG9Zb2xjTGJoV1p6dz09 \nMeeting ID: 825 0152 3683 \nPasscode: 946487 \nZa optimalno delovanje morajo sodelujoči svoje ZOOM aplikacije pred uporabo nujno posodobiti na zadnjo različico (5.6.4). \n  \nNa okrogli mizi bo s strani pristojnih institucij prikazana situacija glede deficitarnih poklicev\, predstavljen bo primer dobre prakse motiviranja mladih za izbiro poklicnega izobraževanja\, v nadaljevanju se bomo osredotočili predvsem na pristaniško dejavnost in pristaniške skupnosti. \nPriloge: Vabilo \nProgram  \nŠtevilo mest je omejeno. Prosimo za potrditev Vaše udeležbe na e-naslov ingrid.trobec@pgz-slo.si ali na tel. št. 05 66 258 30 do petka\, 14. maja 2021. \nDogodek bo organiziran v okviru projekta Euradria 2020\, ki ga sofinancira EVROPSKA KOMISIJA PREKO Programa EU za zaposlovanje in socialne inovacije (EaSI) (2014-2020) . Več informacij je dostopnih na spletni povezavi: http://ec.europa.eu/social/easi. \n                                                           
URL:https://pgz-slo.si/dogodek/okrogla-miza/
CATEGORIES:PGZ
ATTACH;FMTTYPE=image/jpeg:https://pgz-slo.si/wp-content/uploads/2021/05/Slika_okrogla_miza.jpg
END:VEVENT
BEGIN:VEVENT
DTSTART;TZID=Europe/Helsinki:20210519T090000
DTEND;TZID=Europe/Helsinki:20210519T120000
DTSTAMP:20260417T104834
CREATED:20210507T083243Z
LAST-MODIFIED:20210507T083605Z
UID:9890-1621414800-1621425600@pgz-slo.si
SUMMARY:Brezplačna on-line delavnica »Kako najti ravnovesje med delom in zasebnim življenjem?«
DESCRIPTION:SPOT svetovanje Obalno-kraške regije organizira brezplačno on-line delavnico \n»Kako najti ravnovesje med delom in zasebnim življenjem?« \nv SREDO\, 19. maja 2021 od 9.00 do 12. 00 ure\,  \npreko spletnega orodja ZOOM. \n Delavnica je BREZPLAČNA! \nV zadnjem letu so podjetniki ujeti v nov način življenja\, ki s seboj prinaša številne izzive. Delo od doma je postalo nova realnost\, spremlja ga šolanje otrok  na daljavo…Na preizkušnji je vsakdanji utrip v družinah\, ko so člani družine ujeti med stene svojih domov\, pa tudi odnosi v podjetju. Z delom od doma je pri podjetnikih meja med zasebnim in poslovnim življenjem sedaj še bolj zabrisana\, saj pogosto službe zares niti ne odložimo. \n\nkako se organizirati\, ko si hkrati v več vlogah (delo od doma\, otroci…)\nkako postaviti mejo med zasebnim in poslovnim življenjem\nkako bolje upravljati s časom\nkako zmanjšati stres\, poskrbeti za zdravje in dobro počutje\n\nCILJ DELAVNICE: Spodbuditi udeležence – podjetnike k samorefleksiji ter jih opolnomočiti za učinkoviteše soočanje z vsakodnevnimi izzivi v službi in doma. \nVSEBINA: Udeleženci bodo pridobili praktične napotke za učinkovitejše krmarjenje med delom in zasebnim življenjem: \n\nNajpogostejši izzivi podjetnikov – se prepoznate?\nSpoznajte motilce\, ki vam kradejo čas ter kako se jih znebiti\nPraktični napotki za organizacijo časa in določanje prioritet\nUčinkovita komunikacija in postavljanje mej: kaj moram vs. kaj si želim\nVaš osebni akcijski načrt za boljše upravljanje s časom\nSkrb za zdravje in dobro počutje: kaj lahko naredite sami?\n\nFORMAT: Srečanje je zasnovano kot sproščena\, interaktivna delavnica\, v kateri udeleženci pridobijo spoznanja in praktična orodja za boljše upravljanje s stresom in večjo harmonijo v življenju. \nDelavnico bo izvedla Maja Golob\, univ. dipl. ekon. iz podjetja SPAGO d.o.o.. Maja je mednarodno akreditirana poslovna coachinja vodij in teamov\, akreditirana jungovska coachinja\, strokovnjakinja za marketing in odnose s strankami\, predavateljica\, facilitatorka delavnic ter avtorica člankov in knjig za osebno in poslovno rast. Od leta 2002 s partnerjem vodita Spago\, družbo za komuniciranje\, pred tem pa je deset let vodila marketing v mednarodnem podjetju. S svetovanjem\, izobraževanjem ter poslovnim \ncoachingom pomaga vodjem\, podjetnikom in njihovim teamom prepoznati in aktivirati notranje potenciale\, učinkoviteje sodelovati\, se hitreje odzivati na spremembe v poslovnem okolju ter poslovati uspešneje in ustvariti večjo dodano vrednost za stranke\, podjetje in skupnost\, v kateri podjetje deluje. \nPotek webinarja: \nDelavnica  bo potekala v ON-LINE obliki v živo med 9.00 in 12.00 ure preko spletne aplikacije ZOOM. \nPovezavo za spremljanje delavnice vam bomo poslali na vaš e-mail naslov\, dan pred dogodkom. \n Število mest je omejeno! \nPrijave: Prijave na delavnico zbiramo najkasneje do ponedeljka\, 17. maja 2021 oz. do zasedbe prostih mest preko spletne prijavnice. \nDodatne informacije lahko dobite pri svetovalki Petri Weber (Območna obrtno-podjetniška zbornica\nSežana)\, tel.: 05 62 02 851 oz. po e-pošti: petra.weber@ozs.si
URL:https://pgz-slo.si/dogodek/brezplacna-on-line-delavnica-kako-najti-ravnovesje-med-delom-in-zasebnim-zivljenjem/
CATEGORIES:SPOT
ATTACH;FMTTYPE=image/jpeg:https://pgz-slo.si/wp-content/uploads/2021/05/Cover_ravnovesje.jpg
END:VEVENT
BEGIN:VEVENT
DTSTART;TZID=Europe/Helsinki:20210526T100000
DTEND;TZID=Europe/Helsinki:20210526T124500
DTSTAMP:20260417T104834
CREATED:20210507T085444Z
LAST-MODIFIED:20210507T085522Z
UID:9895-1622023200-1622033100@pgz-slo.si
SUMMARY:Brezplačna on-line delavnica »Učinkovito poslovno komuniciranje in pogajanje«
DESCRIPTION:SPOT svetovanje Obalno-kraške regije v okviru dogodka FestINNO organizira brezplačno on-line delavnico \n »Učinkovito poslovno komuniciranje in pogajanje«  \n v SREDO\, 26. maja 2021 od 10. do 12. 45 ure\, preko spletnega orodja ZOOM. \n Delavnica je BREZPLAČNA! \nNa delavnici boste udeleženci spoznali kako komunicirati jasno in konsistentno\, tako znotraj podjetja kot tudi s strankami. Spoznali boste\, kako uporabljati neverbalna sporočila in govorico telesa\, kajti komunikacija daleč presega uporabo besed. \nNi dobrega posla brez učinkovitih pogajanj\, zato bo govora tudi o tem\, kako doseči s stranko sporazum\, ne da bi ogrozili prihodnjo komunikacijo in sodelovanje. V poslu ne dosežemo tega\, kar si zaslužimo\, temveč to\, kar si izpogajamo! \nDelavnica je namenjena  podjetnikom (MSP) in potencialnim podjetnikom. \nPROGRAM DELAVNICE: \n10:00  –    12:45  \n\n Temelji uspešnega poslovnega komuniciranja.\nVerbalna in neverbalna komunikacija.\nAsertivna komunikacija in aktivno poslušanje.\nPogajanja kot načrtovan proces: pogajalske tehnike.\nLastnosti dobrih pogajalcev.\nObvladovanje težkih situacij pri pogajanjih.\n\nDelavnico bo izvedla predavateljica Mateja Milost\, direktorica svetovalnega podjetja Fimago in predavateljica na Univerzi v Novi Gorici\, ki že 25 let deluje na področju izvoznega svetovanja\, internacionalizacije in postavitve marketinških strategij. Do danes je uspešno pomagala več kot 250 domačim in tujim podjetjem pri prodoru na tuje trge in izboljšanju trženjskih aktivnosti. \nPotek delavnice: \nDelavnica bo potekala v ON-LINE obliki v živo med 10.00 in 12.45 preko spletne aplikacije ZOOM. Potrebna je predhodna prijava. Na delavnico se prijavite na https://www.eventbrite.com/e/ucinkovito-poslovno-komuniciranje-in-pogajanje-tickets-153536404519 \nŠtevilo mest je omejeno! \nDodatne informacije lahko dobite pri ORA Krasa in Brkinov d.o.o.\, svetovalka Dolores Kovšca\,  tel.: 051 424 532 oz. po e-pošti: dolores.kovsca@ora.si. \n  \nV sredo\, 26. maja 2021 prihaja že dvanajsti podjetniški dogodek – FestINNO –  festival inovativnosti\, ki združuje ZABAVO in INOVATINOST.  \nDogodek\, ki ga je lani preko spleta obiskalo preko 750 študentov\, dijakov\, podjetnikov\, strokovnjakov in zainteresirane javnosti iz Slovenije in tujine zaradi specifičnosti razmer poteka ponovno preko spleta.  \n Bogat program dogodka\, ki obsega 20+ delavnic\, okroglih miz\, predavanj\, razprav ali predstavitev z domačimi in tujimi predavatelji\, izkušenimi podjetniki\, kreativnimi študenti in drugi praktiki je namenjen vsem\, ki jih zanimajo sodobne teme in izzivi povezani s podjetništvom in inovativnostjo kot so: \n\nintelektualna lastnina\,\ncrowdfunding (množično financiranje)\npodjetništvo kot karierna odločitev\nposlovni modeli\nsocialno\, družinsko in trajnostno podjetništvo\nservitizacija\npredstavitve uspešnih podjetniških zgodb\npodporne storitve in organizacije podjetniškega podpornega okolja.\n\nDogodek organizira UP\, Fakulteta za Management\, ob so-organizaciji Univerze v Udinah\, podpori Spirita in MGRT ter vrste drugih soustvarjalcev in izvajalcev posameznih delavnic\, ki vsako leto zvesto pomagajo krepiti in razvijati podjetniški duh. Prireditev je bila lani nominirana tudi kot nacionalna zmagovalka na Natečaju Evropske komisije za spodbujanje podjetniškega duha. \nPodrobnejši program je dosegljiv na spletni strani: www.inno.si/festinno. Udeležba je na vseh dogodkih brezplačna. Potrebna je predhodna prijava.  Dogodki potekajo preko spletnih platform Zoom in Teams. \n 
URL:https://pgz-slo.si/dogodek/brezplacna-on-line-delavnica-ucinkovito-poslovno-komuniciranje-in-pogajanje/
CATEGORIES:SPOT
ATTACH;FMTTYPE=image/jpeg:https://pgz-slo.si/wp-content/uploads/2021/05/KOMUNICIRANJE-IN-PRODAJA.jpg
END:VEVENT
BEGIN:VEVENT
DTSTART;TZID=Europe/Helsinki:20210526T110000
DTEND;TZID=Europe/Helsinki:20210526T123000
DTSTAMP:20260417T104834
CREATED:20210524T104455Z
LAST-MODIFIED:20210524T104707Z
UID:10204-1622026800-1622032200@pgz-slo.si
SUMMARY:Tržnica podpornega podjetniškega okolja
DESCRIPTION:SPOT Svetovanje Obalno-kraške regije sodeluje na dogodku Tržnica podpornega podjetniškega okolja\, ki ga organizira OOZ Logatec v okviru festivala inovativnosti festINNO. \nZa spodbujanje podjetništva je namreč ključno zagotavljanje kakovostnih storitev in infrastruktura podpornega podjetniškega okolja. \nSodelovali bodo tudi predstavniki drugih podjetniških podpornih organizacij. \nVeč informacij o programu dogodka in prijavnico za posamezni dogodek najdete na povezavi: http://www.inno.si/en/festinno-5/.
URL:https://pgz-slo.si/dogodek/trznica-podpornega-podjetniskega-okolja/
CATEGORIES:SPOT
ATTACH;FMTTYPE=image/jpeg:https://pgz-slo.si/wp-content/uploads/2021/05/Trznica-podpornega-podjetniskega-okolja-2.jpg
END:VEVENT
END:VCALENDAR