BEGIN:VCALENDAR
VERSION:2.0
PRODID:-//PGZ - ECPv6.15.15//NONSGML v1.0//EN
CALSCALE:GREGORIAN
METHOD:PUBLISH
X-WR-CALNAME:PGZ
X-ORIGINAL-URL:https://pgz-slo.si
X-WR-CALDESC:Dogodki za PGZ
REFRESH-INTERVAL;VALUE=DURATION:PT1H
X-Robots-Tag:noindex
X-PUBLISHED-TTL:PT1H
BEGIN:VTIMEZONE
TZID:Europe/Paris
BEGIN:DAYLIGHT
TZOFFSETFROM:+0100
TZOFFSETTO:+0200
TZNAME:CEST
DTSTART:20190331T010000
END:DAYLIGHT
BEGIN:STANDARD
TZOFFSETFROM:+0200
TZOFFSETTO:+0100
TZNAME:CET
DTSTART:20191027T010000
END:STANDARD
BEGIN:DAYLIGHT
TZOFFSETFROM:+0100
TZOFFSETTO:+0200
TZNAME:CEST
DTSTART:20200329T010000
END:DAYLIGHT
BEGIN:STANDARD
TZOFFSETFROM:+0200
TZOFFSETTO:+0100
TZNAME:CET
DTSTART:20201025T010000
END:STANDARD
BEGIN:DAYLIGHT
TZOFFSETFROM:+0100
TZOFFSETTO:+0200
TZNAME:CEST
DTSTART:20210328T010000
END:DAYLIGHT
BEGIN:STANDARD
TZOFFSETFROM:+0200
TZOFFSETTO:+0100
TZNAME:CET
DTSTART:20211031T010000
END:STANDARD
END:VTIMEZONE
BEGIN:VTIMEZONE
TZID:Europe/Helsinki
BEGIN:DAYLIGHT
TZOFFSETFROM:+0200
TZOFFSETTO:+0300
TZNAME:EEST
DTSTART:20190331T010000
END:DAYLIGHT
BEGIN:STANDARD
TZOFFSETFROM:+0300
TZOFFSETTO:+0200
TZNAME:EET
DTSTART:20191027T010000
END:STANDARD
BEGIN:DAYLIGHT
TZOFFSETFROM:+0200
TZOFFSETTO:+0300
TZNAME:EEST
DTSTART:20200329T010000
END:DAYLIGHT
BEGIN:STANDARD
TZOFFSETFROM:+0300
TZOFFSETTO:+0200
TZNAME:EET
DTSTART:20201025T010000
END:STANDARD
BEGIN:DAYLIGHT
TZOFFSETFROM:+0200
TZOFFSETTO:+0300
TZNAME:EEST
DTSTART:20210328T010000
END:DAYLIGHT
BEGIN:STANDARD
TZOFFSETFROM:+0300
TZOFFSETTO:+0200
TZNAME:EET
DTSTART:20211031T010000
END:STANDARD
END:VTIMEZONE
BEGIN:VEVENT
DTSTART;TZID=Europe/Paris:20201006T100000
DTEND;TZID=Europe/Paris:20201006T230000
DTSTAMP:20260420T180414
CREATED:20200203T154535Z
LAST-MODIFIED:20200907T120220Z
UID:4999-1601978400-1602025200@pgz-slo.si
SUMMARY:Brezplačno podjetniško svetovanje Slovenske poslovne točke – SPOT svetovanje Obalno – kraške regije v Kariernem centru UP!
DESCRIPTION:Imate podjetniško idejo\, pa ne veste kako bi jo realizirali? Vas zanimajo odgovori na vprašanja glede ustanovitve in registracije podjetja ali katere druge statusne oblike? \nSe vam porajajo vprašanja glede: \n\nizpolnjevanja posebnih pogojev glede izvedbe vaše podjetniške ideje?\naktualnih podjetniških finančnih spodbud?\nraznih obveznosti podjetnika pri poslovanju?\nrazličnih oblik podpore v okviru SPOT?\n\nV prostorih Kariernega centra Univerze na Primorskem poteka svetovanje v okviru PODJETNIŠKEGA KOTIČKA. Svetovanje izvaja svetovalka iz SPOT svetovanje Obalno – kraške regije\, ki odgovarja na vprašanja študentov\, potencialnih podjetnikov ter brezplačno svetuje pri reševanju izzivov. \nSvetovalne ure bodo potekale vsak prvi torek v mesecu\, v času od 10 do 12 ure\, v prostorih Kariernega centra UP\, Center za vseživljenjsko učenje in karierno orientacijo\,\nTitov trg 4\, 6000 Koper. \nNaslednje srečanje bo 6.10.2020. med 10 in 12 uro.\nRezervirajte si termin na elektronski naslov: kariernicenter@upr.si. \nVabljeni vsi\, ki vas zanima podjetniški svet!
URL:https://pgz-slo.si/dogodek/brezplacno-podjetnisko-svetovanje-slovenske-poslovne-tocke-spot-svetovanje-obalno-kraske-regije-v-kariernem-centru-up/
CATEGORIES:SPOT
ATTACH;FMTTYPE=image/png:https://pgz-slo.si/wp-content/uploads/2020/02/spot-svetovanje_FB_splet.png
END:VEVENT
BEGIN:VEVENT
DTSTART;TZID=Europe/Helsinki:20201014T090000
DTEND;TZID=Europe/Helsinki:20201014T123000
DTSTAMP:20260420T180414
CREATED:20200923T120822Z
LAST-MODIFIED:20201007T122348Z
UID:6260-1602666000-1602678600@pgz-slo.si
SUMMARY:Brezplačna delavnica »Le zdravo podjetje je lahko uspešno podjetje«
DESCRIPTION:SPOT svetovanje Obalno-kraške regije organizira brezplačno delavnico\n»Le zdravo podjetje je lahko uspešno podjetje« \nv SREDO\, 14. oktobra 2020 ob 9. uri – online preko ZOOM orodja. \nDelavnica je BREZPLAČNA! \nProgram delavnice:\n9:00 – 9:15 – Aktualno na točki SPOT svetovanje Obalno – kraške regije\n9:15 – 10:00 – Promocija zdravja v podjetju\, izr. prof. dr. Klemen Širok\, UP FVZ\n10:00 – 10:45 – Higienski ukrepi za preprečevanje širjenja koronavirua v podjetjih\, Simona\nPerčič\, dr.med.\, spec.javnega zdravja\n10:45 – 11:00 – Odmor\n11:00 – 11:45 – Prehranski vidik – načrtovanje prehrane in upoštevanje prehranskih smernic\,\ndoc. dr. Mojca Stubelj\, UP FVZ\n11:45 – 12:30 – Mišično skeletni vidik – ergonomskih prilagoditvah delovnih mest in gibalni\naktivnosti za preprečevanje mišično skeletnih težav\, doc. dr. Matej Voglar\, UP FVZ \nDelavnica je namenjena podjetnikom\, zaposlenim v podjetjih in vsem vodstvenih delavcem\, ki\nso v podjetjih odgovorni za področje promocije zdravja. \nOpis vsebine:\nDr. Klemen Širok bo uvodoma kratko predstavil\, zakaj se vložek v promocijo zdravja\n(dolgoročno) izplača tako podjetjem kot zaposlenim. Drugi del delavnice je namenjen seznanitvi\nz ukrepi projekta STAR-VITAL\, ki jih lahko podjetje uporabi kot spodbudo\, da tako vodstvo kot\nzaposleni skupaj pričnejo spreminjati navade in stopijo na pot izboljšane skrbi za lastno\nvitalnost. \nPREHRANSKI VIDIK\, doc. dr. Mojca Stubelj: Predstavljene bodo smernic zdravega\nprehranjevanja\, čisto preprosto in s praktičnimi primeri. Spoznali bomo kaj naše telo rabi\, da\npravilno deluje in se bori proti boleznim. Poleg tega bomo spoznali\, kako moramo kombinirati\nhrano\, da naredimo uravnotežen obrok. Spoznali bomo tudi\, kako lahko priporočilom sledimo in\nkaj lahko naredimo\, da bomo bolj zdravi. Zadnji del delavnice je namenjen praktičnemu\nnačrtovanju zdravega obroka. \nMIŠIČNO SKELETNI VIDIK\, doc. dr. Matej Voglar: Prvi korak k zmanjševanju mišično-skeletnih\ntežav je prepoznavanje dejavnikov\, ki lahko pripomorejo k njihovemu nastanku. V nadaljevanju\ndelavnice bomo izpostavili ključna ergonomska priporočila povezana z zmanjševanjem tveganj\nza najpogostejše mišično-skeletne težave\, kot so bolečine v spodnjem delu hrbta\, v vratu in\nramenih ter bolečine v zapestjih. Zadnji del delavnice bomo namenili seznanitvi z drugimi\npreventivnimi ukrepi ter se naučili izvedbe nekaterih ključnih vaj za preprečevanje prej\nomenjenih težav. \nSIMONA PERČIČ\, dr.med.\, spec.javnega zdravja: Novi koronavirus ali kakor so ga poimenovali\nSARS-CoV-2 je ustavil svet. V predavanju vam bomo osvetlili na kakšnih temeljih\, o vedenju\nvirusa\, so nastali higienski ukrepi\, kako jih v realnem svetu lahko upoštevamo in se dotaknili\ndejstva\, kaj nas čaka v prihodnosti. \nPrijave na delavnico zbiramo najkasneje do torka\, 13.10.2020 preko spletne prijavnice. \nPrijavljenim bomo poslali povezavo do delavnice najkasneje en dan pred izvedbo dogodka. \nDodatne informacije lahko dobite po tel.: 05/ 662 58 34 oz. po e-pošti: spot.obalnokraske@gmail.com.
URL:https://pgz-slo.si/dogodek/brezplacna-delavnica-le-zdravo-podjetje-je-lahko-uspesno-podjetje-2/
CATEGORIES:SPOT
ATTACH;FMTTYPE=image/jpeg:https://pgz-slo.si/wp-content/uploads/2020/09/Cover-1.jpg
END:VEVENT
BEGIN:VEVENT
DTSTART;TZID=Europe/Helsinki:20201014T180000
DTEND;TZID=Europe/Helsinki:20201014T190000
DTSTAMP:20260420T180414
CREATED:20201013T135443Z
LAST-MODIFIED:20201013T135443Z
UID:6314-1602698400-1602702000@pgz-slo.si
SUMMARY:Brezplačni spletni dogodek - »Skupaj premagajmo COVID«
DESCRIPTION:Vabljeni na brezplačno delavnico za podjetja o najnovejših ukrepih za omilitev posledic koronavirusa. \nDogodek bo potekal 14. oktober 2020\, od 18. do 19. ure v živo\, gledalci v dvorani ne bodo prisotni (spremljali ga bodo preko spleta v živo in posnetek bo na razpolago tudi kasneje na platformi MOS)\, na spletu (spletna platforma MOS: https://sejem.ce-sejem.si/mos/ministrstvo-za-gospodarski-razvoj-in-tehnologijo) \nNa dogodku bodo sodelovali: \n\nMGRT: Sibil Klančar\, vodja Službe za razvojna sredstva\,\nSPS: mag. Natalija Muršič Tomažič\, Vodja oddelka za spremljavo in podporo poslovnih procesov\,\nSID banka: Saša Keleman\, izvršni direktor\,\nSPIRIT Slovenija: Rok Beniger\, vodja sektorja za finančne spodbude.\n\nProgram dogodka: \n\n\n\n\n18:00 – 18:10\nUvodni pozdrav in kratka predstavitev ukrepov  MGRT\, Sibil Klančar\, vodja Službe za razvojna sredstva Ministrstva za gospodarski razvoj in tehnologijo\n\n\n18:10  – 18:20\nSlovenski podjetniški sklad: Predstavitev aktualnih ukrepov Slovenskega podjetniškega sklada (COVID mikrokreditov in javnega poziva COVID19 za nakup zaščitne opreme)\n\n\n18:20 – 18:30\nSID banka: Korona financiranje za mala in srednja podjetja\n\n\n18:30 – 18:40\nSPIRIT Slovenija: Sofinanciranje razvojno – raziskovalnih projektov za odpravo posledic COVID-19\n\n\n18:40 – 18:50\nMGRT: Usmerjanje razvojnih spodbud v prihodnosti\, instrument “next generation”\n\n\n18:50 – 19:00\nOdgovori na vprašanja udeležencev\n\n\n\n\nUdeležba na spletnem dogodku je brezplačna. \nVabljeni tudi na ogled skupne platforme Ministrstva za gospodarski razvoj in tehnologijo z izvajalskimi institucijami.
URL:https://pgz-slo.si/dogodek/brezplacni-spletni-dogodek-skupaj-premagajmo-covid/
CATEGORIES:SPOT
ATTACH;FMTTYPE=image/png:https://pgz-slo.si/wp-content/uploads/2020/10/mos-light.png
END:VEVENT
BEGIN:VEVENT
DTSTART;TZID=Europe/Helsinki:20201021T080000
DTEND;TZID=Europe/Helsinki:20201022T170000
DTSTAMP:20260420T180414
CREATED:20200717T105938Z
LAST-MODIFIED:20201007T121807Z
UID:6149-1603267200-1603386000@pgz-slo.si
SUMMARY:Letošnji dogodek SEEMEET preložen na naslednje leto
DESCRIPTION:Obveščamo vas\, da je letošnji dogodek SEEMEET preložen na naslednje leto. \nSporočamo vam\, da bodo 21. oktobra 2020 vseeno potekala brezplačna predavanja »SEEMEET LECTURES« za podjetja – v angleščini. \nVeč o tem na: http://www.seemeet.si/lectures.
URL:https://pgz-slo.si/dogodek/seemeet-2020-najvecji-dogodek-za-mrezenje-v-sloveniji/
LOCATION:Hotel City Maribor\, Slovenija
CATEGORIES:SPOT
ATTACH;FMTTYPE=image/jpeg:https://pgz-slo.si/wp-content/uploads/2020/07/seemeet.jpg
END:VEVENT
BEGIN:VEVENT
DTSTART;TZID=Europe/Helsinki:20201021T163000
DTEND;TZID=Europe/Helsinki:20201021T180000
DTSTAMP:20260420T180414
CREATED:20201006T082850Z
LAST-MODIFIED:20210214T170300Z
UID:6276-1603297800-1603303200@pgz-slo.si
SUMMARY:Predlogi ukrepov za debirokratizacijo Slovenije - posvet
DESCRIPTION:Primorska gospodarska zbornica vljudno vabi na posvet na temo »Predlogi ukrepov za debirokratizacijo Slovenije«. Tokratni gost bo Ivan Simič\, predsednik Strateškega sveta za debirokratizacijo\, ki ga je imenovala Vlada Republike Slovenije letos spomladi. Svet je pripravil prvi nabor ukrepov\, ki naj bi bili sprejeti do konca letošnjega leta. \nMreženjski dogodek bo v sredo\, 21. oktobra 2020 ob 16.30 uri v veliki sejni dvorani na sedežu  zbornice\, Ferrarska 2 v Kopru. \nZaradi ukrepov NIJZ je število udeležencev omejeno na 40. Zato vas lepo prosimo\, da vašo udeležbo potrdite čimprej\, najkasneje pa do petka\, 16. oktobra 2020 na tel. št. 05 66 25 830 ali na e-naslov info@pgz-slo.si. \nSkladno z navodili NIJZ bomo vodili evidenco prisotnih\, ob prihodu pa bo vsakemu udeležencu tudi izmerjena telesna temperatura. \nVABILO: \nPGZ vabilo na posvet – 21.10.2020 \n 
URL:https://pgz-slo.si/dogodek/predlogi-ukrepov-za-debirokratizacijo-slovenije-posvet/
CATEGORIES:PGZ
END:VEVENT
END:VCALENDAR