BEGIN:VCALENDAR
VERSION:2.0
PRODID:-//PGZ - ECPv6.15.15//NONSGML v1.0//EN
CALSCALE:GREGORIAN
METHOD:PUBLISH
X-WR-CALNAME:PGZ
X-ORIGINAL-URL:https://pgz-slo.si
X-WR-CALDESC:Dogodki za PGZ
REFRESH-INTERVAL;VALUE=DURATION:PT1H
X-Robots-Tag:noindex
X-PUBLISHED-TTL:PT1H
BEGIN:VTIMEZONE
TZID:Europe/Helsinki
BEGIN:DAYLIGHT
TZOFFSETFROM:+0200
TZOFFSETTO:+0300
TZNAME:EEST
DTSTART:20210328T010000
END:DAYLIGHT
BEGIN:STANDARD
TZOFFSETFROM:+0300
TZOFFSETTO:+0200
TZNAME:EET
DTSTART:20211031T010000
END:STANDARD
BEGIN:DAYLIGHT
TZOFFSETFROM:+0200
TZOFFSETTO:+0300
TZNAME:EEST
DTSTART:20220327T010000
END:DAYLIGHT
BEGIN:STANDARD
TZOFFSETFROM:+0300
TZOFFSETTO:+0200
TZNAME:EET
DTSTART:20221030T010000
END:STANDARD
BEGIN:DAYLIGHT
TZOFFSETFROM:+0200
TZOFFSETTO:+0300
TZNAME:EEST
DTSTART:20230326T010000
END:DAYLIGHT
BEGIN:STANDARD
TZOFFSETFROM:+0300
TZOFFSETTO:+0200
TZNAME:EET
DTSTART:20231029T010000
END:STANDARD
END:VTIMEZONE
BEGIN:VEVENT
DTSTART;TZID=Europe/Helsinki:20220324T110000
DTEND;TZID=Europe/Helsinki:20220324T224500
DTSTAMP:20260419T150316
CREATED:20220304T152203Z
LAST-MODIFIED:20220308T140145Z
UID:11982-1648119600-1648161900@pgz-slo.si
SUMMARY:Brezplačna ON-LINE predstavitev Vavčerja za celostno vrednotenje okoljskih vplivov (LCA)
DESCRIPTION:SPOT Svetovanje Obalno-kraške regije organizira BREZPLAČNO ON-LINE predstavitev Vavčerja za celostno vrednotenje okoljskih vplivov (LCA)\nv ČETRTEK\, 24. marca 2022 od 11.00 do 11:45 prek orodja ZOOM. \nKaj je LCA analiza?\nLCA-analiza je mednarodno standardizirana metodologija\, ki pomaga količinsko opredeliti pritiske na okolje\, ki so povezani z blagom in storitvami\, okoljske koristi ter možnosti za izboljšave v celotnem življenjskem ciklu nekega izdelka.Metoda LCA je trenutno edina mednarodno standardizirana metoda za ocenjevanje okoljskih vplivov. Analiza življenjskega cikla (LCA – Life Cycle Assessment) se uporablja za analizo vplivov na okolje izdelka v vseh fazah njegovega življenjskega cikla. \nNamen javnega poziva:\nNamen vavčerja je MSPjem omogočiti izvedbo celostnega vrednotenja okoljskih vplivov (LCA – Life Cycle Assessment)\, ki nastajajo v življenjskem ciklu izdelka. \nPredstavljena bo LCA analiza\, zakaj izvajati LCA analizo\, konkretni primeri\, možnost pridobitve vavčerja za LCA analizo. \nPotrebne so predhodne prijave: https://forms.gle/haWuRcRLxNpZ2nPR8. \nVeč informacij v priponki! \n \nProjekt je sofinanciran s pomočjo Evropskega sklada za regionalni razvoj\, Ministrstva za gospodarski razvoj in tehnologijo ter SPIRIT Slovenija\, javna agencija.
URL:https://pgz-slo.si/dogodek/brezplacna-on-line-predstavitev-vavcerja-za-celostno-vrednotenje-okoljskih-vplivov-lca/
CATEGORIES:SPOT
ATTACH;FMTTYPE=image/jpeg:https://pgz-slo.si/wp-content/uploads/2022/03/Cover-1.jpg
END:VEVENT
END:VCALENDAR